BEGIN:VCALENDAR
VERSION:2.0
PRODID:-//Hart voor Zorg - ECPv6.15.20//NONSGML v1.0//EN
CALSCALE:GREGORIAN
METHOD:PUBLISH
X-WR-CALNAME:Hart voor Zorg
X-ORIGINAL-URL:https://hartvoorzorg.nl
X-WR-CALDESC:Evenementen voor Hart voor Zorg
REFRESH-INTERVAL;VALUE=DURATION:PT1H
X-Robots-Tag:noindex
X-PUBLISHED-TTL:PT1H
BEGIN:VTIMEZONE
TZID:Europe/Amsterdam
BEGIN:DAYLIGHT
TZOFFSETFROM:+0100
TZOFFSETTO:+0200
TZNAME:CEST
DTSTART:20250330T010000
END:DAYLIGHT
BEGIN:STANDARD
TZOFFSETFROM:+0200
TZOFFSETTO:+0100
TZNAME:CET
DTSTART:20251026T010000
END:STANDARD
BEGIN:DAYLIGHT
TZOFFSETFROM:+0100
TZOFFSETTO:+0200
TZNAME:CEST
DTSTART:20260329T010000
END:DAYLIGHT
BEGIN:STANDARD
TZOFFSETFROM:+0200
TZOFFSETTO:+0100
TZNAME:CET
DTSTART:20261025T010000
END:STANDARD
BEGIN:DAYLIGHT
TZOFFSETFROM:+0100
TZOFFSETTO:+0200
TZNAME:CEST
DTSTART:20270328T010000
END:DAYLIGHT
BEGIN:STANDARD
TZOFFSETFROM:+0200
TZOFFSETTO:+0100
TZNAME:CET
DTSTART:20271031T010000
END:STANDARD
END:VTIMEZONE
BEGIN:VEVENT
DTSTART;TZID=Europe/Amsterdam:20261110T090000
DTEND;TZID=Europe/Amsterdam:20261110T153000
DTSTAMP:20260422T215254
CREATED:20260417T080132Z
LAST-MODIFIED:20260422T122756Z
UID:10000064-1794301200-1794324600@hartvoorzorg.nl
SUMMARY:GHZ & GGZ Festival Zwolle
DESCRIPTION:GHZ & GGZ Festival Zwolle                                                    \n\n                        \n                            12 november | Lumen Events Zwolle\, Stadionplein 18                        \n\n                                                    \n                                Leuke & leerzame dag speciaal voor professionals in de gehandicaptenzorg en GGZ!                            \n                                                \n                            Claim jouw ticket                        \n                    \n                \n            \n        \n    \n\n\n\n\n\n \n\n    \n                    Welkom zorgheld!            \n\n\n \n\n            \n            Wil je ook een gezellig én leerzaam dagje uit beleven samen met je collega’s uit de gehandicapten- en geestelijke gezondheidszorg? Het GHZ & GGZ Festival\, op dinsdag 10 november in Zwolle tijdens de Hart voor Zorg inspiratieweek\, is de ideale mix tussen ontspanning\, plezier en professionele ontwikkeling. \nTijdens de vele workshops — gegeven door allerlei inspirerende sprekers — leer je als verpleegkundige of verzorgende alles over actuele thema’s. Lees hieronder meer over de workshops\, doe mee aan de meest interessante sessies en laat je inspireren! \nNaast de workshops is er meer dan genoeg ruimte voor ontspanning. Zo is er op de gezellige beursvloer van alles te doen en geven we je zo veel mogelijk persoonlijke aandacht en liefde. Doe mee aan leuke activiteiten\, ga in gesprek met zorgorganisaties of collega’s en maak kennis met de nieuwste zorginnovaties. \n        \n    \n\n\n\n\n    \n        \n    \n\n\n\n\n\n\n\n\n\n\n\n\n\n\n\n\n\n\n\n\n\n\n\n\n\n\n\n\n\n\n \n\n    \n                    Wat brengt deze dag jou?            \n\n\n\n\n                        \n                \n                                            \n                                    \n                \n                    \n                                                    Ontspan en geniet                                            \n                    \n                        Op de beursvloer is van alles te doen: oefen vaardigheden in het skillslab\, laat jezelf vastleggen door een karikaturist en ontspan tijdens een massage. \n                    \n                \n            \n                    \n                \n                                            \n                                    \n                \n                    \n                                                    Ontmoet zorgcollega’s                                            \n                    \n                        Maak op de gezellige beursvloer kennis met collega’s uit de zorg en ga in gesprek met allerlei zorgorganisaties. \n                    \n                \n            \n                    \n                \n                                            \n                                    \n                \n                    \n                                                    Verbreed je kennis                                            \n                    \n                        Leer tijdens de verschillende workshop-rondes alles over actuele thema’s en ontwikkel je zo verder als zorgprofessional. \n                    \n                \n            \n                    \n                \n                                            \n                                    \n                \n                    \n                                                    Ontdek innovaties                                            \n                    \n                        Op de beursvloer kun je kennismaken met de nieuwste innovaties in de zorg. \n                    \n                \n            \n            \n\n\n\n\n    \n        \n                        \n                                    \n\n                        \n                        \n                            \n                        \n\n                        \n                            Linda Lammerts van Bueren (52)                        \n\n                        \n                                                    \n\n                        \n                            “Veel boeiende workshops en leuke stands van organisaties. Ik heb veel nieuwe dingen gezien!” \n                        \n                    \n                                    \n\n                        \n                        \n                            \n                        \n\n                        \n                            Monique Bus (54)                        \n\n                        \n                                                    \n\n                        \n                            “Een hele leuke combinatie van interessante workshops\, activiteiten en kraampjes. De ideale plek om meer collega’s met hart voor de zorg te leren kennen.” \n                        \n                    \n                                    \n\n                        \n                        \n                            \n                        \n\n                        \n                            Catharina Smit (42)                        \n\n                        \n                                                    \n\n                        \n                            “Wat ik leuk vind\, is dat je allerlei andere kanten van de zorg te zien krijgt. Ik raad het zeker aan\, je steekt er echt wat van op.” \n                        \n                    \n                            \n        \n        \n            \n        \n            \n\n\n\n\n\n\n\n\n\n\n            Claim jouw gratis ticket\n    \n\n\n\n\n\n\n\n \n\n    \n                    Dit is het programma — Invulling volgt            \n\n\n\n\n            \n                            \n                    \n                        \n                            09.30 – 10.15 uur                        \n                        \n                            Workshopronde 1                        \n                    \n                    \n                                            \n                \n                            \n                    \n                        \n                            10.45 – 11.30 uur                        \n                        \n                            Workshopronde 2                        \n                    \n                    \n                                            \n                \n                            \n                    \n                        \n                            12.00 – 12.45 uur                        \n                        \n                            Workshopronde 3                        \n                    \n                    \n                                            \n                \n                            \n                    \n                        \n                            13.15 – 14.00 uur                        \n                        \n                            Workshopronde 4                        \n                    \n                    \n                                            \n                \n                            \n                    \n                        \n                            14.30 – 15.15                        \n                        \n                            Workshopronde 5                        \n                    \n                    \n                                            \n                \n                    \n    \n\n\n\n\n\n\n\n\n    \n        \n    \n\n\n\n\n \n\n    \n                    Wij hebben een Hart voor Zorg            \n\n\n \n\n            \n            Het GHZ & GGZ Festival tijdens de Hart voor Zorg inspiratieweek in Zwolle wordt mede mogelijk gemaakt door onze partners met een hart voor de zorg. Deze zorgorganisaties maken het bijvoorbeeld mogelijk dat je het GHZ & GGZ Festival gratis kunt bezoeken. \nZo wordt nieuwe kennis voor iedere zorgprofessional toegankelijk\, stimuleren we leren & ontwikkelen en tillen we de Nederlandse zorg samen naar een nóg hoger niveau. Onze partners zijn ook te vinden op de sfeervolle beursvloer. Haal een kop koffie of thee en ga eens gezellig met ze in gesprek! \n        \n    \n\n\n\n                        \n                                        \n                                                            \n                                    \n                                \n                                                    \n                            \n                    \n                                        \n                                                            \n                                    \n                                \n                                                    \n                            \n                    \n                                        \n                                                            \n                                    \n                                \n                                                    \n                            \n            \n\n\n\n            Claim jouw gratis ticket\n    \n\n\n\n\n\n\n\n\n\n                         \n                \n                    \n                \n            \n                                \n                \n                    \n                \n            \n                                \n                \n                    \n                \n            \n                                \n                \n                    \n                \n            \n                                \n                \n                    \n                \n            \n                                \n                \n                    \n                \n            \n                                \n                \n                    \n                \n            \n                                \n                \n                    \n                \n            \n                                \n                \n                    \n                \n            \n                                \n                \n                    \n                \n            \n                                \n                \n                    \n                \n            \n                                \n                \n                    \n                \n            \n                                \n                \n                    \n                \n            \n                                \n                \n                    \n                \n            \n                                \n                \n                    \n                \n            \n                                \n                \n                    \n                \n            \n                                \n                \n                    \n                \n            \n                                \n                \n                    \n                \n            \n                                \n                \n                    \n                \n            \n                                \n                \n                    \n                \n            \n                                \n                \n                    \n                \n            \n                                \n                \n                    \n                \n            \n                                \n                \n                    \n                \n            \n                                \n                \n                    \n                \n            \n                                \n                \n                    \n                \n            \n                                \n                \n                    \n                \n            \n                                \n                \n                    \n                \n            \n                                \n                \n                    \n                \n            \n                                \n                \n                    \n                \n            \n                                \n                \n                    \n                \n            \n                                \n                \n                    \n                \n            \n                                \n                \n                    \n                \n            \n                                \n                \n                    \n                \n            \n                                \n                \n                    \n                \n            \n            \n\n\n\n\n\n\n\n\n\n \n\n    \n                    Leer\, ontspan & geniet            \n\n\n\n\n            Ik ben er gratis bij!\n    \n\n\n\n\n\n\n\n            \n            \n            \n        \n    \n\n\n\n\n \n\n    \n                    Dit zijn onze experts            \n\n\n\n\n\n    \n    \n\n\n\n\n\n\n\n\n\n\n    \n                    Join the community en ga voor premium!            \n                                    \n                                            \n                            ✓\n                            \n                                Onbeperkt toegang tot content                            \n                        \n                                            \n                            ✓\n                            \n                                Accreditatiepunten verdienen                            \n                        \n                                            \n                            ✓\n                            \n                                Gratis naar alle evenementen                            \n                        \n                                    \n                                \n                Aanmelden
URL:https://hartvoorzorg.nl/event/ghz-ggz-festival-zwolle-2026/
LOCATION:Lumen Events Zwolle\, Stadionplein 18\, Zwolle\, Overijssel\, 8025 CP
ATTACH;FMTTYPE=image/jpeg:https://hartvoorzorg.nl/wp-content/uploads/2025/06/inspiratieweek_zwolle_23-156-cropped_optimized-scaled.jpg
GEO:52.0524209;4.5204543
X-APPLE-STRUCTURED-LOCATION;VALUE=URI;X-ADDRESS=Lumen Events Zwolle Stadionplein 18 Zwolle Overijssel 8025 CP;X-APPLE-RADIUS=500;X-TITLE=Stadionplein 18:geo:4.5204543,52.0524209
END:VEVENT
END:VCALENDAR